BEGIN:VCALENDAR
VERSION:2.0
PRODID:-//SPÖ St. Florian - ECPv6.15.20//NONSGML v1.0//EN
CALSCALE:GREGORIAN
METHOD:PUBLISH
X-WR-CALNAME:SPÖ St. Florian
X-ORIGINAL-URL:https://sankt-florian.spooe.at
X-WR-CALDESC:Veranstaltungen für SPÖ St. Florian
REFRESH-INTERVAL;VALUE=DURATION:PT1H
X-Robots-Tag:noindex
X-PUBLISHED-TTL:PT1H
BEGIN:VTIMEZONE
TZID:Europe/Vienna
BEGIN:DAYLIGHT
TZOFFSETFROM:+0100
TZOFFSETTO:+0200
TZNAME:CEST
DTSTART:20220327T010000
END:DAYLIGHT
BEGIN:STANDARD
TZOFFSETFROM:+0200
TZOFFSETTO:+0100
TZNAME:CET
DTSTART:20221030T010000
END:STANDARD
BEGIN:DAYLIGHT
TZOFFSETFROM:+0100
TZOFFSETTO:+0200
TZNAME:CEST
DTSTART:20230326T010000
END:DAYLIGHT
BEGIN:STANDARD
TZOFFSETFROM:+0200
TZOFFSETTO:+0100
TZNAME:CET
DTSTART:20231029T010000
END:STANDARD
BEGIN:DAYLIGHT
TZOFFSETFROM:+0100
TZOFFSETTO:+0200
TZNAME:CEST
DTSTART:20240331T010000
END:DAYLIGHT
BEGIN:STANDARD
TZOFFSETFROM:+0200
TZOFFSETTO:+0100
TZNAME:CET
DTSTART:20241027T010000
END:STANDARD
BEGIN:DAYLIGHT
TZOFFSETFROM:+0100
TZOFFSETTO:+0200
TZNAME:CEST
DTSTART:20250330T010000
END:DAYLIGHT
BEGIN:STANDARD
TZOFFSETFROM:+0200
TZOFFSETTO:+0100
TZNAME:CET
DTSTART:20251026T010000
END:STANDARD
BEGIN:DAYLIGHT
TZOFFSETFROM:+0100
TZOFFSETTO:+0200
TZNAME:CEST
DTSTART:20260329T010000
END:DAYLIGHT
BEGIN:STANDARD
TZOFFSETFROM:+0200
TZOFFSETTO:+0100
TZNAME:CET
DTSTART:20261025T010000
END:STANDARD
BEGIN:DAYLIGHT
TZOFFSETFROM:+0100
TZOFFSETTO:+0200
TZNAME:CEST
DTSTART:20270328T010000
END:DAYLIGHT
BEGIN:STANDARD
TZOFFSETFROM:+0200
TZOFFSETTO:+0100
TZNAME:CET
DTSTART:20271031T010000
END:STANDARD
END:VTIMEZONE
BEGIN:VEVENT
DTSTART;TZID=Europe/Vienna:20260409T075500
DTEND;TZID=Europe/Vienna:20260409T180000
DTSTAMP:20260423T204607
CREATED:20260206T124055Z
LAST-MODIFIED:20260206T124423Z
UID:1507-1775721300-1775757600@sankt-florian.spooe.at
SUMMARY:PV Ausfahrt: Stift Herzogenburg / Styx
DESCRIPTION:Programm und Details sind dem Programm 2026 zu entnehmen.
URL:https://sankt-florian.spooe.at/termin/pv-ausfahrt-stift-herzogenburg-styx/
CATEGORIES:Pensionisten
END:VEVENT
BEGIN:VEVENT
DTSTART;TZID=Europe/Vienna:20260305T065500
DTEND;TZID=Europe/Vienna:20260305T190000
DTSTAMP:20260423T204607
CREATED:20260206T123823Z
LAST-MODIFIED:20260206T124351Z
UID:1505-1772693700-1772737200@sankt-florian.spooe.at
SUMMARY:PV Ausfahrt: Wenatex / Das Schlafsystem / Rupertihof
DESCRIPTION:Programm und Details sind dem Programm 2026 zu entnehmen.
URL:https://sankt-florian.spooe.at/termin/pv-ausfahrt-wenatex-das-schlafsystem-rupertihof/
CATEGORIES:Pensionisten
END:VEVENT
BEGIN:VEVENT
DTSTART;TZID=Europe/Vienna:20251204T070000
DTEND;TZID=Europe/Vienna:20251204T200000
DTSTAMP:20260423T204607
CREATED:20250806T132617Z
LAST-MODIFIED:20250806T132617Z
UID:1477-1764831600-1764878400@sankt-florian.spooe.at
SUMMARY:PV Ausfahrt: Modellbahn Welt / Kittenberger Adventmarkt
DESCRIPTION:Programm und Details sind dem Fahrtenprogramm 2.HJ 2025 zu entnehmen.
URL:https://sankt-florian.spooe.at/termin/pv-ausfahrt-modellbahn-welt-kittenberger-adventmarkt/
CATEGORIES:Pensionisten
END:VEVENT
BEGIN:VEVENT
DTSTART;TZID=Europe/Vienna:20251016T095500
DTEND;TZID=Europe/Vienna:20251016T190000
DTSTAMP:20260423T204607
CREATED:20250806T132438Z
LAST-MODIFIED:20250806T132638Z
UID:1475-1760608500-1760641200@sankt-florian.spooe.at
SUMMARY:PV Ausfahrt: Fahrt ins Blaue 2025
DESCRIPTION:Programm und Details sind dem Fahrtenprogramm 2.HJ 2025 zu entnehmen.
URL:https://sankt-florian.spooe.at/termin/pv-ausfahrt-fahrt-ins-blaue-2025/
CATEGORIES:Pensionisten
END:VEVENT
BEGIN:VEVENT
DTSTART;TZID=Europe/Vienna:20250918T072500
DTEND;TZID=Europe/Vienna:20250918T200000
DTSTAMP:20260423T204607
CREATED:20250806T132325Z
LAST-MODIFIED:20250806T132656Z
UID:1473-1758180300-1758225600@sankt-florian.spooe.at
SUMMARY:PV Ausfahrt: Tagesausflug Kamptal
DESCRIPTION:Programm und Details sind dem Fahrtenprogramm 2.HJ 2025 zu entnehmen.
URL:https://sankt-florian.spooe.at/termin/pv-ausfahrt-tagesausflug-kamptal/
CATEGORIES:Pensionisten
END:VEVENT
BEGIN:VEVENT
DTSTART;TZID=Europe/Vienna:20250830T170000
DTEND;TZID=Europe/Vienna:20250830T220000
DTSTAMP:20260423T204607
CREATED:20250806T124832Z
LAST-MODIFIED:20250806T132744Z
UID:1455-1756573200-1756591200@sankt-florian.spooe.at
SUMMARY:Familienfest & Dämmerschoppen im Stiftsmeierhof (nur bei Schönwetter)
DESCRIPTION:Wir freuen uns auf euren Besuch beim Florianer Dämmerschoppen & Familienfest am Samstag\, 30.08. ab 17.00 Uhr im Stiftsmeierhof. \nUnser Musikverein St. Florian sorgt für musikalische Unterhaltung. \nNatürlich gibt es ausreichend zum Trinken  und zum Essen. \nAuch für unsere jüngsten Gäste wird für Spielespaß gesorgt. Die Kinderfreunde unterhalten die Kleinen mit lustigen Spielen und einer Hüpfburg. \nDie Veranstaltung findet nur bei Schönwetter statt. \nDer Eintritt ist frei!
URL:https://sankt-florian.spooe.at/termin/familienfest-daemmerschoppe-im-stiftsmeierhof-nur-bei-schoenwetter/
LOCATION:Stiftsmeierhof\, St. Florian\, 4490\, Österreich
CATEGORIES:Familie,Pensionisten
ATTACH;FMTTYPE=image/jpeg:https://sankt-florian.spooe.at/wp-content/uploads/sites/105/2025/08/Daemmerschoppen_Einladung_2025_front.jpg
ORGANIZER;CN="SP%C3%96 St. Florian":MAILTO:michael.mollner93@gmail.com
END:VEVENT
BEGIN:VEVENT
DTSTART;TZID=Europe/Vienna:20250828T072500
DTEND;TZID=Europe/Vienna:20250828T180000
DTSTAMP:20260423T204607
CREATED:20250806T132135Z
LAST-MODIFIED:20250806T132713Z
UID:1471-1756365900-1756404000@sankt-florian.spooe.at
SUMMARY:PV Ausfahrt: Megaflex/Landesgartenschau
DESCRIPTION:Programm und Details sind dem Fahrtenprogramm 2.HJ 2025 zu entnehmen.
URL:https://sankt-florian.spooe.at/termin/pv-ausfahrt-megaflex-landesgartenschau/
CATEGORIES:Pensionisten
END:VEVENT
BEGIN:VEVENT
DTSTART;TZID=Europe/Vienna:20250807T082500
DTEND;TZID=Europe/Vienna:20250807T200000
DTSTAMP:20260423T204607
CREATED:20250806T132004Z
LAST-MODIFIED:20250806T132725Z
UID:1469-1754555100-1754596800@sankt-florian.spooe.at
SUMMARY:PV Ausfahrt: Tag der älteren Generation
DESCRIPTION:Programm und Details sind dem Fahrtenprogramm 2.HJ 2025 zu entnehmen.
URL:https://sankt-florian.spooe.at/termin/pv-ausfahrt-tag-der-aelteren-generation/
CATEGORIES:Pensionisten
END:VEVENT
BEGIN:VEVENT
DTSTART;TZID=Europe/Vienna:20241231T130000
DTEND;TZID=Europe/Vienna:20241231T160000
DTSTAMP:20260423T204607
CREATED:20241102T174419Z
LAST-MODIFIED:20241102T174419Z
UID:1413-1735650000-1735660800@sankt-florian.spooe.at
SUMMARY:Silvesterwanderung des PV
DESCRIPTION:Treffpunkt um 13 Uhr beim Wetterhäuschen
URL:https://sankt-florian.spooe.at/termin/silvesterwanderung-des-pv/
CATEGORIES:Pensionisten
END:VEVENT
BEGIN:VEVENT
DTSTART;TZID=Europe/Vienna:20241212T110000
DTEND;TZID=Europe/Vienna:20241212T130000
DTSTAMP:20260423T204607
CREATED:20241102T174236Z
LAST-MODIFIED:20241102T174236Z
UID:1411-1734001200-1734008400@sankt-florian.spooe.at
SUMMARY:Weihnachtsfeier PV (Ortskern)
DESCRIPTION:Der Vorstand des Pensionistenverbandes der Ortsgruppe St. Florian lädt recht herzlich zur diesjährigen Weihnachtsfeier ein! \nWann: Donnerstag\, 12. Dezember 2024 \nWen: Mitglieder vom Ortskern \nWo: im Saal des Sportparks St. Florian\, Badstraße 1a
URL:https://sankt-florian.spooe.at/termin/weihnachtsfeier-pv-ortskern/
LOCATION:Sportpark St. Florian\, Badstraße 1a\, St. Florian\, 4490\, Österreich
CATEGORIES:Pensionisten
END:VEVENT
BEGIN:VEVENT
DTSTART;TZID=Europe/Vienna:20241211T110000
DTEND;TZID=Europe/Vienna:20241211T130000
DTSTAMP:20260423T204607
CREATED:20241102T174052Z
LAST-MODIFIED:20241102T174052Z
UID:1407-1733914800-1733922000@sankt-florian.spooe.at
SUMMARY:Weihnachtsfeier PV (Ortschaften)
DESCRIPTION:Der Vorstand des Pensionistenverbandes der Ortsgruppe St. Florian lädt recht herzlich zur diesjährigen Weihnachtsfeier ein! \nWann: Mittwoch\, 11. Dezember 2024 \nWen: Mitglieder von den Ortschaften \nWo: im Saal des Sportparks St. Florian\, Badstraße 1a
URL:https://sankt-florian.spooe.at/termin/weihnachtsfeier-pv-ortschaften/
LOCATION:Sportpark St. Florian\, Badstraße 1a\, St. Florian\, 4490\, Österreich
CATEGORIES:Pensionisten
END:VEVENT
BEGIN:VEVENT
DTSTART;TZID=Europe/Vienna:20241201T170000
DTEND;TZID=Europe/Vienna:20241201T200000
DTSTAMP:20260423T204607
CREATED:20241102T175629Z
LAST-MODIFIED:20241102T175629Z
UID:1415-1733072400-1733083200@sankt-florian.spooe.at
SUMMARY:Adventmarkt "Die erste Kerze brennt"
DESCRIPTION:Wie jedes Jahr wird an den Adventsonntagen am Marktplatz ein Adventmarkt von Florianer Vereinen veranstaltet.. \nAm 1. Adventsonntag freuen sich die Naturfreunde\, ARBÖ St. Florian und Junge Generation der SPÖ auf ihren Besuch.
URL:https://sankt-florian.spooe.at/termin/adventmarkt-die-erste-kerze-brennt/
LOCATION:Marktplatz
CATEGORIES:Familie,Pensionisten
END:VEVENT
BEGIN:VEVENT
DTSTART;TZID=Europe/Vienna:20240831T170000
DTEND;TZID=Europe/Vienna:20240831T233000
DTSTAMP:20260423T204607
CREATED:20240419T101022Z
LAST-MODIFIED:20240723T094339Z
UID:1334-1725123600-1725147000@sankt-florian.spooe.at
SUMMARY:Familienfest & Dämmerschoppen im Stiftsmeierhof (nur bei Schönwetter)
DESCRIPTION:Was passiert: Spiel und Spaß für die ganze Familie!\nWir freuen uns auf Ihren Besuch.\nAlter: 0-99 Jahre\nWann: ab 17 Uhr\nTreff punkt: Stiftsmeierhof\nMitzubringen: gute Laune\nAnmeldung: nicht erforderlich\, die Veranstaltung findet nur bei\nSchönwetter statt.\nKosten: keine
URL:https://sankt-florian.spooe.at/termin/familienfest-daemmerschoppen-im-stiftsmeierhof-2/
LOCATION:Stiftsmeierhof\, St. Florian\, 4490\, Österreich
CATEGORIES:Familie,Pensionisten
ATTACH;FMTTYPE=image/png:https://sankt-florian.spooe.at/wp-content/uploads/sites/105/2024/04/Daemmerschoppen_31Aug24.png
ORGANIZER;CN="SP%C3%96 St. Florian":MAILTO:michael.mollner93@gmail.com
END:VEVENT
BEGIN:VEVENT
DTSTART;TZID=Europe/Vienna:20240811T100000
DTEND;TZID=Europe/Vienna:20240811T170000
DTSTAMP:20260423T204607
CREATED:20240624T134050Z
LAST-MODIFIED:20240624T134050Z
UID:1380-1723370400-1723395600@sankt-florian.spooe.at
SUMMARY:Ferienpassaktion: Beachvolleyballturnier im Freibad St. Florian
DESCRIPTION:Was passiert: In Vierer Teams wird gegeneinander angetreten und um\ntolle Preise gekämpft! Rahmenprogramm mit DJ und\nalkoholfreier Cocktailbar\nAlter: ab 14 Jahre\nWann: Start: 10:00 Uhr\nTreff punkt: Beachvolleyballplatz Freibad St. Florian\nMitzubringen: gute Laune\nAnmeldung: bei Vizebgm. Michael Mollner unter michael.mollner93@gmail.com\nKosten: keine
URL:https://sankt-florian.spooe.at/termin/ferienpassaktion-beachvolleyballturnier-im-freibad-st-florian/
LOCATION:Freibad St. Florian
END:VEVENT
BEGIN:VEVENT
DTSTART;TZID=Europe/Vienna:20240729T083000
DTEND;TZID=Europe/Vienna:20240729T120000
DTSTAMP:20260423T204607
CREATED:20240624T133843Z
LAST-MODIFIED:20240624T133843Z
UID:1378-1722241800-1722254400@sankt-florian.spooe.at
SUMMARY:Ferienpassaktion: Führung bei der Berufsfeuerwehr
DESCRIPTION:Was passiert: Ein Erlebnis der besonderen Art wartet bei euch bei der\nFührung der Berufsfeuerwehr in Linz. Einmal vor Ort alles\ngenau zu betrachten und erfahrene Feuerwehrleute\, die durch\ndas Gelände führen und von Einsätzen berichten\, erleben\nAlter: ab 6 Jahre (max. Teilnehmer 25)\nWann: 8:30 Uhr\nTreff punkt: bei der Bushaltestelle Stift St. Florian (Fahrgemeinschaften zur Berufsfeuerwehr Linz) Begleitpersonen sind erwünscht.\nDie Führung beginnt um 9:30 Uhr und dauert ungefähr 2 Stunden.\nMitzubringen: gute Laune\nAnmeldung: bei Vizebürgermeister Michael Mollner unter michael.mollner93@gmail.com\nKosten: keine
URL:https://sankt-florian.spooe.at/termin/ferienpassaktion-fuehrung-bei-der-berufsfeuerwehr/
CATEGORIES:Familie
ORGANIZER;CN="SP%C3%96 St. Florian":MAILTO:michael.mollner93@gmail.com
END:VEVENT
BEGIN:VEVENT
DTSTART;TZID=Europe/Vienna:20240724T150000
DTEND;TZID=Europe/Vienna:20240724T173000
DTSTAMP:20260423T204607
CREATED:20240419T101718Z
LAST-MODIFIED:20240624T132725Z
UID:1336-1721833200-1721842200@sankt-florian.spooe.at
SUMMARY:Ferienpassaktion: Wir bauen ein Mooshäuschen (nur bei Schönwetter)
DESCRIPTION:Was passiert: Mit den Schätzen des Waldes baut sich jeder sein kleines\n„Häuschen“\, nach einer kurzen Wanderung im Wald\, wo\ndu Naturmaterial sammeln kannst\, bauen wir gemeinsam\nunsere Mooshäuschen.\nAlter: 6-10 Jahre\nWann: 15 bis 17:30 Uhr\nTreff punkt: bei der Ölbergkapelle (nur bei Schönwetter)\nMitzubringen: gute Laune und eine Tasche zum Sammeln von\nNaturmaterial\nAnmeldung: Tamara Mollner\, tamaramollner.tm@gmail.com\nKosten: keine
URL:https://sankt-florian.spooe.at/termin/ferienpassaktion-wir-bauen-ein-mooshaeuschen/
CATEGORIES:Familie
ORGANIZER;CN="SP%C3%96 St. Florian":MAILTO:michael.mollner93@gmail.com
END:VEVENT
BEGIN:VEVENT
DTSTART;TZID=Europe/Vienna:20240719T150000
DTEND;TZID=Europe/Vienna:20240719T170000
DTSTAMP:20260423T204607
CREATED:20240419T100752Z
LAST-MODIFIED:20240624T132958Z
UID:1332-1721401200-1721408400@sankt-florian.spooe.at
SUMMARY:Spieletreff für die Jüngsten (nur bei Schönwetter)
DESCRIPTION:Was passiert: Kinder von 2-6 Jahren können mit ihren Mama´s und\nPapa´s andere Familien kennenlernen. Der Nachmittag\nkann zum gemeinsamen Spielen und Basteln genützt\nwerden. Für Snacks und Getränke ist gesorgt.\nAlter: 2-6 Jahren\nWann: 15.00 – 17.00 Uhr\nTreff punkt: Spielplatz „St. Johann“ bei der neuen Mittelschule\nMitzubringen: Picknickdecke und gute Laune\nAnmeldung: nicht erforderlich\, Info Tel. 0650/3500758\nKosten: keine
URL:https://sankt-florian.spooe.at/termin/spieletreff-familiennachmittag-2/
LOCATION:St. Florian Spielplatz St. Johann\, Leopold-Kotzmann-Straße 25\, St. Florian\, 4490\, Österreich
CATEGORIES:Familie
ORGANIZER;CN="SP%C3%96 St. Florian":MAILTO:michael.mollner93@gmail.com
END:VEVENT
BEGIN:VEVENT
DTSTART;TZID=Europe/Vienna:20240707T130000
DTEND;TZID=Europe/Vienna:20240707T160000
DTSTAMP:20260423T204607
CREATED:20240624T133144Z
LAST-MODIFIED:20240624T133206Z
UID:1330-1720357200-1720368000@sankt-florian.spooe.at
SUMMARY:School-Out-Party im Freibad St. Florian (nur bei Schönwetter)
DESCRIPTION:Was passiert: Pooldisco\, Wasserinseln\, Wasserrutschbahn\,\nWasserbausteine\, Erlebnis-Wasserstraße „NESSI“\nund vieles mehr. NUR BEI SCHÖNWETTER!!\nSCHLECHTWETTERHOTLINE: 0676/895610125 –\nHerr Roland Ganglbauer-Buchner.\nVizebürgermeister Michael Mollner lädt jedes Kind\nauf ein Eis ein!\nAlter: unbegrenzt\nWann: 13:00 bis 16:00 Uhr\nTreff punkt: Freibad St. Florian\nMitzubringen: gute Laune\nAnmeldung: nicht erforderlich\nKosten: keine
URL:https://sankt-florian.spooe.at/termin/school-out-party-im-freibad-st-florian-2/
LOCATION:Freibad St. Florian
CATEGORIES:Familie
ATTACH;FMTTYPE=image/jpeg:https://sankt-florian.spooe.at/wp-content/uploads/sites/105/2023/07/JG-Schooloutpartyc3a32244-62ce-4be4-8ece-dd71d3c12429.jpg
END:VEVENT
BEGIN:VEVENT
DTSTART;TZID=Europe/Vienna:20240630T140000
DTEND;TZID=Europe/Vienna:20240630T170000
DTSTAMP:20260423T204607
CREATED:20240419T093517Z
LAST-MODIFIED:20240616T122321Z
UID:1318-1719756000-1719766800@sankt-florian.spooe.at
SUMMARY:Jubiläumsveranstaltung 70 Jahre Pensionistenverband St. Florian
DESCRIPTION:Der Pensionistenverband lädt Sie sehr herzlich zur Jubiläumsveranstaltung 70 Jahre Pensionistenverband St. Florian ein! \nSonntag\, 30 Juni 2024 um 14 Uhr in der Florianhalle: \nNicht einsam – GEMEINSAM! \nFestakt Beginn 14 Uhr: \n– Musikalische Eröffnung und musikalische Einlagen vom Bläserensemble des Musikvereins St. Florian \n– Begrüßung: Vorsitzender Max Kemptner \n– Grußworte der Ehrengäste \n– Rückblick \nPause mit Bewirtung \n– Kabaretteinlage von Mag. Joschi Auer \n– Barbara Trettenhahn: lustige Anekdoten aus gemeinsamer Zeit \n– Ehrungen \n– Landeshymne „Hoamatland“ \n 
URL:https://sankt-florian.spooe.at/termin/70-jahre-pensionistenverband-st-florian/
LOCATION:Florianhalle\, Neue Mittelschule
CATEGORIES:Pensionisten
ATTACH;FMTTYPE=image/png:https://sankt-florian.spooe.at/wp-content/uploads/sites/105/2024/04/PV_70_Jahrfeier.png
END:VEVENT
BEGIN:VEVENT
DTSTART;TZID=Europe/Vienna:20240501T090000
DTEND;TZID=Europe/Vienna:20240501T130000
DTSTAMP:20260423T204607
CREATED:20240419T094101Z
LAST-MODIFIED:20240419T094101Z
UID:1320-1714554000-1714568400@sankt-florian.spooe.at
SUMMARY:Bezirks-Maifest 1.Mai 2024 Traun
DESCRIPTION:Wir laden alle unsere Freundinnen und Freunde\, Mitglieder\, Funktionär:innen\, Sympathisant:innen und befreundete Organisationen ein\, \nmit uns am 1. Mai den Tag der Arbeit zu feiern! \n  \nTreffpunkt ist ab 9 Uhr in Traun beim Parkplatz der evang. Kirche im Hammerweg. \nAbmarsch des Festzuges ist um 9:30 und um ca. 10:15 Uhr findet die Kundgebung am Kirchenplatz Traun statt. \n  \nFreuen wir uns auf Redebeiträge von \nHannes Heide\, Abgeordneter zum Europäischen Parlament \nSabrina Klausberger\, Spitzenkandidatin – Nationalratswahl\, Bezirksfrauenvorsitzende \nPia Mayr\, Kandidatin der SPÖ OÖ zur EU-Wahl\, Stv. Bundesvorsitzende der JG \nTobias Höglinger\, Landtagsabgeordneter\, Bezirksparteivorsitzender \nDominik Ortmann\, Stadtrat in Traun\, Stadtparteivorsitzender \n  \nIm Anschluss findet ein gemütlicher Frühschoppen mit der Austropop-Band DreSchnHo statt – für Verpflegung ist bestens gesorgt!
URL:https://sankt-florian.spooe.at/termin/bezirks-maifest-1-mai-2024-traun/
LOCATION:Traun\, Traun\, Österreich
CATEGORIES:Familie,Pensionisten
ATTACH;FMTTYPE=image/jpeg:https://sankt-florian.spooe.at/wp-content/uploads/sites/105/2024/04/Bezirksmaifest24_alle-scaled.jpg
END:VEVENT
BEGIN:VEVENT
DTSTART;TZID=Europe/Vienna:20231020T160000
DTEND;TZID=Europe/Vienna:20231020T170000
DTSTAMP:20260423T204607
CREATED:20230711T115448Z
LAST-MODIFIED:20230711T115448Z
UID:1281-1697817600-1697821200@sankt-florian.spooe.at
SUMMARY:Durchs Redn kumman d´Leit zaum
DESCRIPTION:Sprechstunde mit Vizebürgermeister Michael Mollner\, Fraktionsobmann Roland Ganglbauer-Buchner und GR Alfred Ramler (Obmann Ausschuss für Verkehrsangelegenheiten)
URL:https://sankt-florian.spooe.at/termin/durchs-redn-kumman-dleit-zaum-16/
LOCATION:Naturfreundeheim St. Florian\, Stiftsstraße 2 (Stiftsmeierhof)\, St. Florian\, 4490
CATEGORIES:Sprechstunde
ORGANIZER;CN="SP%C3%96 St. Florian":MAILTO:michael.mollner93@gmail.com
END:VEVENT
BEGIN:VEVENT
DTSTART;TZID=Europe/Vienna:20230927T140000
DTEND;TZID=Europe/Vienna:20230927T170000
DTSTAMP:20260423T204607
CREATED:20230913T095830Z
LAST-MODIFIED:20230913T101030Z
UID:1300-1695823200-1695834000@sankt-florian.spooe.at
SUMMARY:PV OÖ OG St. Florian Jahreshauptversammlung
DESCRIPTION:Ordentliche Jahreshauptversammlung des Pensionistenverbandes Oberösterreich\, Ortsgruppe St.Florian \nIm Anschluss findet eine Videopräsentation über die Reise nach Südtirol statt.
URL:https://sankt-florian.spooe.at/termin/pv-ooe-og-st-florian-jahreshauptversammlung/
LOCATION:Gasthof Pfistermüller
CATEGORIES:Pensionisten
END:VEVENT
BEGIN:VEVENT
DTSTART;TZID=Europe/Vienna:20230922T160000
DTEND;TZID=Europe/Vienna:20230922T170000
DTSTAMP:20260423T204607
CREATED:20230711T115322Z
LAST-MODIFIED:20230711T115322Z
UID:1279-1695398400-1695402000@sankt-florian.spooe.at
SUMMARY:Durchs Redn kumman d´Leit zaum
DESCRIPTION:Sprechstunde mit Vizebürgermeister Michael Mollner\, Fraktionsobmann Roland Ganglbauer-Buchner und GR Alfred Ramler (Obmann Ausschuss für Verkehrsangelegenheiten)
URL:https://sankt-florian.spooe.at/termin/durchs-redn-kumman-dleit-zaum-15/
LOCATION:Naturfreundeheim St. Florian\, Stiftsstraße 2 (Stiftsmeierhof)\, St. Florian\, 4490
CATEGORIES:Sprechstunde
ORGANIZER;CN="SP%C3%96 St. Florian":MAILTO:michael.mollner93@gmail.com
END:VEVENT
BEGIN:VEVENT
DTSTART;TZID=Europe/Vienna:20230915T150000
DTEND;TZID=Europe/Vienna:20230915T160000
DTSTAMP:20260423T204607
CREATED:20230711T120147Z
LAST-MODIFIED:20230711T120147Z
UID:1283-1694790000-1694793600@sankt-florian.spooe.at
SUMMARY:Sozialsprechtag mit Konsulentin Eva Breitenfellner
DESCRIPTION:Unsere Sozialexpertin berät sie gerne. Auch Nichtmitglieder\, Freunde und Bekannte sind herzlich eingeladen. \nAnmeldungen bitte an unseren Vizebürgermeister MICHAEL MOLLNER \nemail: michael.mollner93@gmail.com oder per Telefon: +43 660 4725883
URL:https://sankt-florian.spooe.at/termin/sozialsprechtag-mit-konsulentin-eva-breitenfellner/
LOCATION:Naturfreundeheim St. Florian\, Stiftsstraße 2 (Stiftsmeierhof)\, St. Florian\, 4490
ORGANIZER;CN="SP%C3%96 St. Florian":MAILTO:michael.mollner93@gmail.com
END:VEVENT
BEGIN:VEVENT
DTSTART;TZID=Europe/Vienna:20230902T160000
DTEND;TZID=Europe/Vienna:20230902T233000
DTSTAMP:20260423T204607
CREATED:20230706T091958Z
LAST-MODIFIED:20230706T092025Z
UID:1263-1693670400-1693697400@sankt-florian.spooe.at
SUMMARY:Familienfest & Dämmerschoppen im Stiftsmeierhof
DESCRIPTION:Familienfest & Dämmerschoppen im Stiftsmeierhof ab 16:00 Uhr \nSpiel und Spaß für die ganze Familie! \nDie Veranstaltung findet nur bei Schönwetter statt.
URL:https://sankt-florian.spooe.at/termin/familienfest-daemmerschoppen-im-stiftsmeierhof/
LOCATION:Stiftsmeierhof\, St. Florian\, 4490\, Österreich
ATTACH;FMTTYPE=image/jpeg:https://sankt-florian.spooe.at/wp-content/uploads/sites/105/2023/07/273a987d-bb73-4ac1-b54f-518751018dc7.jpg
ORGANIZER;CN="SP%C3%96 St. Florian":MAILTO:michael.mollner93@gmail.com
END:VEVENT
BEGIN:VEVENT
DTSTART;TZID=Europe/Vienna:20230825T140000
DTEND;TZID=Europe/Vienna:20230825T170000
DTSTAMP:20260423T204607
CREATED:20230814T125327Z
LAST-MODIFIED:20230814T125327Z
UID:1286-1692972000-1692982800@sankt-florian.spooe.at
SUMMARY:Spieletreff Familiennachmittag
DESCRIPTION:Wir möchten Familien aus St. Florian die Möglichkeit bieten\, einen gemütlichen Nachmittag beim Spielplatz St. Johann/Mittelschule zu verbingen und sich auszutauschen. \nKinder von 2-6 Jahren können mit ihren Mama´s und Papa´s andere Familien kennenlernen. Der Nachmittag kann zum gemeinsamen Spielen und Basteln genutzt werden. \nFür Snacks und Getränke ist gesorgt! \nWir bitten um Anmeldung bei annaf.385@gmail.com oder lisa.linzner@gmx.at
URL:https://sankt-florian.spooe.at/termin/spieletreff-familiennachmittag/
LOCATION:St. Florian Spielplatz St. Johann\, Leopold-Kotzmann-Straße 25\, St. Florian\, 4490\, Österreich
CATEGORIES:Familie
ATTACH;FMTTYPE=image/jpeg:https://sankt-florian.spooe.at/wp-content/uploads/sites/105/2023/08/Familiennachmittag_25-8-23.jpg
ORGANIZER;CN="SP%C3%96 St. Florian":MAILTO:michael.mollner93@gmail.com
END:VEVENT
BEGIN:VEVENT
DTSTART;TZID=Europe/Vienna:20230806T110000
DTEND;TZID=Europe/Vienna:20230806T170000
DTSTAMP:20260423T204607
CREATED:20230706T091749Z
LAST-MODIFIED:20230706T091749Z
UID:1260-1691319600-1691341200@sankt-florian.spooe.at
SUMMARY:Beachvolleyballturnier im Freibad St. Florian
DESCRIPTION:Beachvolleyballturnier im Freibad St. Florian ab 11:00 Uhr – gespielt wird in 3er Teams – in jedem Team muss mindestens eine Frau mitspielen. Anmeldungen bei Vizebgm. Michael Mollner unter michael.mollner93@gmail.com
URL:https://sankt-florian.spooe.at/termin/beachvolleyballturnier-im-freibad-st-florian/
LOCATION:Freibad St. Florian
CATEGORIES:Sport
ATTACH;FMTTYPE=image/jpeg:https://sankt-florian.spooe.at/wp-content/uploads/sites/105/2023/07/Beachvolleyball_tipps-scaled.jpg
END:VEVENT
BEGIN:VEVENT
DTSTART;TZID=Europe/Vienna:20230709T130000
DTEND;TZID=Europe/Vienna:20230709T160000
DTSTAMP:20260423T204607
CREATED:20230706T091444Z
LAST-MODIFIED:20230706T091444Z
UID:1257-1688907600-1688918400@sankt-florian.spooe.at
SUMMARY:School out Party im Freibad St. Florian
DESCRIPTION:School out Party – Pooldisco\, Wasserinseln\, Erlebniswasserstraße “NESSI“ und viele mehr warten auf euch!
URL:https://sankt-florian.spooe.at/termin/school-out-party-im-freibad-st-florian/
LOCATION:Freibad St. Florian
ATTACH;FMTTYPE=image/jpeg:https://sankt-florian.spooe.at/wp-content/uploads/sites/105/2023/07/d55cfb4b-f237-460d-a725-3168fcef43cf.jpg
END:VEVENT
BEGIN:VEVENT
DTSTART;TZID=Europe/Vienna:20230616T160000
DTEND;TZID=Europe/Vienna:20230616T170000
DTSTAMP:20260423T204607
CREATED:20230406T164259Z
LAST-MODIFIED:20230406T164259Z
UID:1243-1686931200-1686934800@sankt-florian.spooe.at
SUMMARY:Durchs Redn kumman d´Leit zaum
DESCRIPTION:Sprechstunde mit Vizebürgermeister Michael Mollner\, Fraktionsobmann Roland Ganglbauer-Buchner und GR Alfred Ramler (Obmann Ausschuss für Verkehrsangelegenheiten)
URL:https://sankt-florian.spooe.at/termin/durchs-redn-kumman-dleit-zaum-14/
LOCATION:Naturfreundeheim St. Florian\, Stiftsstraße 2 (Stiftsmeierhof)\, St. Florian\, 4490
ORGANIZER;CN="SP%C3%96 St. Florian":MAILTO:michael.mollner93@gmail.com
END:VEVENT
BEGIN:VEVENT
DTSTART;TZID=Europe/Vienna:20230505T160000
DTEND;TZID=Europe/Vienna:20230505T170000
DTSTAMP:20260423T204607
CREATED:20230406T164140Z
LAST-MODIFIED:20230406T164140Z
UID:1241-1683302400-1683306000@sankt-florian.spooe.at
SUMMARY:Durchs Redn kumman d´Leit zaum
DESCRIPTION:Sprechstunde mit Vizebürgermeister Michael Mollner\, Fraktionsobmann Roland Ganglbauer-Buchner und GR Alfred Ramler (Obmann Ausschuss für Verkehrsangelegenheiten)
URL:https://sankt-florian.spooe.at/termin/durchs-redn-kumman-dleit-zaum-13/
LOCATION:Naturfreundeheim St. Florian\, Stiftsstraße 2 (Stiftsmeierhof)\, St. Florian\, 4490
CATEGORIES:Sprechstunde
ORGANIZER;CN="SP%C3%96 St. Florian":MAILTO:michael.mollner93@gmail.com
END:VEVENT
END:VCALENDAR